BEGIN:VCALENDAR
METHOD:PUBLISH
VERSION:2.0
CALSCALE:GREGORIAN
PRODID:-//NONSGML WPForms//NONSGML Sugar Calendar Feeds v3.10.0//EN
X-WR-CALNAME:Vorstandssitzung
X-WR-CALDESC:VfR Klosterreichenbach
X-WR-TIMEZONE:Europe/Berlin
BEGIN:VTIMEZONE
TZID:Europe/Berlin
BEGIN:DAYLIGHT
TZOFFSETFROM:+0100
TZOFFSETTO:+0200
DTSTART:20260329T010000
TZNAME:CEST
END:DAYLIGHT
END:VTIMEZONE
BEGIN:VTIMEZONE
TZID:Europe/Berlin
BEGIN:DAYLIGHT
TZOFFSETFROM:+0100
TZOFFSETTO:+0200
DTSTART:20260329T010000
TZNAME:CEST
END:DAYLIGHT
END:VTIMEZONE
BEGIN:VEVENT
SUMMARY:Vorstandssitzung
DESCRIPTION:
URL;VALUE=URI:https://vfr-klosterreichenbach.de/events/vorstandssitzung-
 2/
UID:urn:uuid:2d2230ee-5e84-4a97-b41e-2f32e9c08838
STATUS:CONFIRMED
ORGANIZER:
DTSTAMP:20260424T084051Z
DTSTART;TZID=Europe/Berlin:20260504T183000
DTEND;TZID=Europe/Berlin:20260504T210000
LOCATION:Röter Str. 39
END:VEVENT
END:VCALENDAR