BEGIN:VCALENDAR
METHOD:PUBLISH
VERSION:2.0
CALSCALE:GREGORIAN
PRODID:-//NONSGML WPForms//NONSGML Sugar Calendar Feeds v3.10.0//EN
X-WR-CALNAME:2. Mitglieder-Arbeitsdienst
X-WR-CALDESC:VfR Klosterreichenbach
X-WR-TIMEZONE:Europe/Berlin
BEGIN:VTIMEZONE
TZID:Europe/Berlin
BEGIN:DAYLIGHT
TZOFFSETFROM:+0200
TZOFFSETTO:+0200
DTSTART:20260410T203000
TZNAME:CEST
END:DAYLIGHT
END:VTIMEZONE
BEGIN:VTIMEZONE
TZID:Europe/Berlin
BEGIN:DAYLIGHT
TZOFFSETFROM:+0200
TZOFFSETTO:+0200
DTSTART:20260410T203000
TZNAME:CEST
END:DAYLIGHT
END:VTIMEZONE
BEGIN:VEVENT
SUMMARY:2. Mitglieder-Arbeitsdienst
DESCRIPTION:
URL;VALUE=URI:https://vfr-klosterreichenbach.de/events/2-mitglieder-arbe
 itsdienst/
UID:urn:uuid:35468da4-8f8a-4858-b098-f174b2cf4722
STATUS:CONFIRMED
ORGANIZER:
DTSTAMP:20260424T102138Z
DTSTART;TZID=Europe/Berlin:20261010T083000
DTEND;TZID=Europe/Berlin:20261010T140000
LOCATION:Röter Str. 39
END:VEVENT
END:VCALENDAR